BEGIN:VCALENDAR
VERSION:2.0
PRODID:-//wp-events-plugin.com//7.2.3.1//EN
TZID:Europe/Berlin
X-WR-TIMEZONE:Europe/Berlin
BEGIN:VEVENT
UID:278@wbs-norderstedt.de
DTSTART;TZID=Europe/Berlin:20270129T000000
DTEND;TZID=Europe/Berlin:20270129T000000
DTSTAMP:20260420T104450Z
URL:https://www.wbs-norderstedt.de/termine/zeugnisausgabe-4/
SUMMARY:Zeugnisausgabe
DESCRIPTION:Heute endet der Unterricht nach der 4. Stunde um 11:15 mit der 
 Zeugnisausgabe.
END:VEVENT
BEGIN:VTIMEZONE
TZID:Europe/Berlin
X-LIC-LOCATION:Europe/Berlin
BEGIN:STANDARD
DTSTART:20261025T020000
TZOFFSETFROM:+0200
TZOFFSETTO:+0100
TZNAME:CET
END:STANDARD
END:VTIMEZONE
END:VCALENDAR