BEGIN:VCALENDAR
VERSION:2.0
PRODID:-//wp-events-plugin.com//7.2.3.1//EN
TZID:Europe/Berlin
X-WR-TIMEZONE:Europe/Berlin
BEGIN:VEVENT
UID:292@wbs-norderstedt.de
DTSTART;TZID=Europe/Berlin:20270616T000000
DTEND;TZID=Europe/Berlin:20270618T000000
DTSTAMP:20260422T093003Z
URL:https://www.wbs-norderstedt.de/termine/muendliche-pruefungen-sek-i-und
 -sek-ii/
SUMMARY:Mündliche Prüfungen Sek I und Sek II
DESCRIPTION:Die Schüler haben in dieser Zeit Studientage und arbeiten zu H
 ause.
END:VEVENT
BEGIN:VTIMEZONE
TZID:Europe/Berlin
X-LIC-LOCATION:Europe/Berlin
BEGIN:DAYLIGHT
DTSTART:20270328T030000
TZOFFSETFROM:+0100
TZOFFSETTO:+0200
TZNAME:CEST
END:DAYLIGHT
END:VTIMEZONE
END:VCALENDAR