BEGIN:VCALENDAR
VERSION:2.0
PRODID:-//wp-events-plugin.com//7.2.3.1//EN
TZID:Europe/Berlin
X-WR-TIMEZONE:Europe/Berlin
BEGIN:VEVENT
UID:282@wbs-norderstedt.de
DTSTART;TZID=Europe/Berlin:20270211T170000
DTEND;TZID=Europe/Berlin:20270211T190000
DTSTAMP:20260422T091016Z
URL:https://www.wbs-norderstedt.de/termine/infotag-schule-stellt-sich-vor/
SUMMARY:Infotag "Schule stellt sich vor"
DESCRIPTION:Dieser Infonachmittag richtet sich an alle Eltern und Kinder de
 r jetzigen 4. Klassen der Grundschulen. Die Veranstaltungen für Eltern un
 d Kinder finden parallel statt.\n\nFür unsere SuS ist heute nach der 6. S
 tunde Unterrichtsschluss.
END:VEVENT
BEGIN:VTIMEZONE
TZID:Europe/Berlin
X-LIC-LOCATION:Europe/Berlin
BEGIN:STANDARD
DTSTART:20261025T020000
TZOFFSETFROM:+0200
TZOFFSETTO:+0100
TZNAME:CET
END:STANDARD
END:VTIMEZONE
END:VCALENDAR