BEGIN:VCALENDAR
VERSION:2.0
PRODID:-//wp-events-plugin.com//7.2.3.1//EN
TZID:Europe/Berlin
X-WR-TIMEZONE:Europe/Berlin
BEGIN:VEVENT
UID:280@wbs-norderstedt.de
DTSTART;TZID=Europe/Berlin:20270204T140000
DTEND;TZID=Europe/Berlin:20270204T173000
DTSTAMP:20260422T090431Z
URL:https://www.wbs-norderstedt.de/termine/fachkonferenz-i/
SUMMARY:Fachkonferenz I
DESCRIPTION:Eine genaue Terminplanung wird den Elternvertretern entsprechen
 d zugemailt.
END:VEVENT
BEGIN:VTIMEZONE
TZID:Europe/Berlin
X-LIC-LOCATION:Europe/Berlin
BEGIN:STANDARD
DTSTART:20261025T020000
TZOFFSETFROM:+0200
TZOFFSETTO:+0100
TZNAME:CET
END:STANDARD
END:VTIMEZONE
END:VCALENDAR