BEGIN:VCALENDAR
VERSION:2.0
PRODID:-//wp-events-plugin.com//7.2.3.1//EN
TZID:Europe/Berlin
X-WR-TIMEZONE:Europe/Berlin
BEGIN:VEVENT
UID:288@wbs-norderstedt.de
DTSTART;TZID=Europe/Berlin:20270429T074500
DTEND;TZID=Europe/Berlin:20270429T140000
DTSTAMP:20260422T092504Z
URL:https://www.wbs-norderstedt.de/termine/esa-englisch-msa-deutsch/
SUMMARY:ESA Englisch/MSA Deutsch
DESCRIPTION:
END:VEVENT
BEGIN:VTIMEZONE
TZID:Europe/Berlin
X-LIC-LOCATION:Europe/Berlin
BEGIN:DAYLIGHT
DTSTART:20270328T030000
TZOFFSETFROM:+0100
TZOFFSETTO:+0200
TZNAME:CEST
END:DAYLIGHT
END:VTIMEZONE
END:VCALENDAR