BEGIN:VCALENDAR
VERSION:2.0
PRODID:-//wp-events-plugin.com//7.2.3.1//EN
TZID:Europe/Berlin
X-WR-TIMEZONE:Europe/Berlin
BEGIN:VEVENT
UID:287@wbs-norderstedt.de
DTSTART;TZID=Europe/Berlin:20270311T190000
DTEND;TZID=Europe/Berlin:20270311T210000
DTSTAMP:20260422T092311Z
URL:https://www.wbs-norderstedt.de/termine/elternabend-jg-6-infos-zu-den-w
 p-i-faechern/
SUMMARY:Elternabend Jg. 6 Infos zu den WP-I Fächern
DESCRIPTION:
END:VEVENT
BEGIN:VTIMEZONE
TZID:Europe/Berlin
X-LIC-LOCATION:Europe/Berlin
BEGIN:STANDARD
DTSTART:20261025T020000
TZOFFSETFROM:+0200
TZOFFSETTO:+0100
TZNAME:CET
END:STANDARD
END:VTIMEZONE
END:VCALENDAR